Workbook

Sheet Графік
A1: Роль | B1: Неділя 1 | C1: Неділя 2 | D1: Неділя 3 | E1: Неділя 4 | F1: Неділя 5
A2: Дата
A3: Lead VOX
A4: VOX
A5: VOX
A6: AC
A7: Piano
A8: Bass
A9: Drums
A10: Sound

Sheet Люди
A1: Імʼя | B1: Ролі | C1: Коли мене не буде | D1: Telegram
A2: Оля | B2: Lead VOX | D2: @olya
A3: Ірина | B3: Lead VOX, VOX | C3: 15.11 | D3: @iryna
A4: Марта | B4: VOX
A5: Андрій | B5: AC, Piano
A6: Денис | B6: Bass
A7: Назар | B7: Drums | C7: 29.11

Sheet Ротація
A1: Імʼя | B1: Служінь за місяць
A2: =IF(Люди!A2="","",Люди!A2) | B2: =IF(A2="","",COUNTIF(Графік!$B$3:$F$10,A2))
A3: =IF(Люди!A3="","",Люди!A3) | B3: =IF(A3="","",COUNTIF(Графік!$B$3:$F$10,A3))
A4: =IF(Люди!A4="","",Люди!A4) | B4: =IF(A4="","",COUNTIF(Графік!$B$3:$F$10,A4))
A5: =IF(Люди!A5="","",Люди!A5) | B5: =IF(A5="","",COUNTIF(Графік!$B$3:$F$10,A5))
A6: =IF(Люди!A6="","",Люди!A6) | B6: =IF(A6="","",COUNTIF(Графік!$B$3:$F$10,A6))
A7: =IF(Люди!A7="","",Люди!A7) | B7: =IF(A7="","",COUNTIF(Графік!$B$3:$F$10,A7))
A8: =IF(Люди!A8="","",Люди!A8) | B8: =IF(A8="","",COUNTIF(Графік!$B$3:$F$10,A8))
A9: =IF(Люди!A9="","",Люди!A9) | B9: =IF(A9="","",COUNTIF(Графік!$B$3:$F$10,A9))
A10: =IF(Люди!A10="","",Люди!A10) | B10: =IF(A10="","",COUNTIF(Графік!$B$3:$F$10,A10))
A11: =IF(Люди!A11="","",Люди!A11) | B11: =IF(A11="","",COUNTIF(Графік!$B$3:$F$10,A11))
A12: =IF(Люди!A12="","",Люди!A12) | B12: =IF(A12="","",COUNTIF(Графік!$B$3:$F$10,A12))
A13: =IF(Люди!A13="","",Люди!A13) | B13: =IF(A13="","",COUNTIF(Графік!$B$3:$F$10,A13))
... A40: =IF(Люди!A40="","",Люди!A40) | B40: =IF(A40="","",COUNTIF(Графік!$B$3:$F$10,A40))
